BEGIN:VCALENDAR
VERSION:2.0
PRODID:-//Zuger Stadtführungen - ECPv6.15.20//NONSGML v1.0//EN
CALSCALE:GREGORIAN
METHOD:PUBLISH
X-ORIGINAL-URL:https://zugerstadtfuehrungen.ch
X-WR-CALDESC:Veranstaltungen für Zuger Stadtführungen
REFRESH-INTERVAL;VALUE=DURATION:PT1H
X-Robots-Tag:noindex
X-PUBLISHED-TTL:PT1H
BEGIN:VTIMEZONE
TZID:Europe/Zurich
BEGIN:DAYLIGHT
TZOFFSETFROM:+0100
TZOFFSETTO:+0200
TZNAME:CEST
DTSTART:20250330T010000
END:DAYLIGHT
BEGIN:STANDARD
TZOFFSETFROM:+0200
TZOFFSETTO:+0100
TZNAME:CET
DTSTART:20251026T010000
END:STANDARD
BEGIN:DAYLIGHT
TZOFFSETFROM:+0100
TZOFFSETTO:+0200
TZNAME:CEST
DTSTART:20260329T010000
END:DAYLIGHT
BEGIN:STANDARD
TZOFFSETFROM:+0200
TZOFFSETTO:+0100
TZNAME:CET
DTSTART:20261025T010000
END:STANDARD
BEGIN:DAYLIGHT
TZOFFSETFROM:+0100
TZOFFSETTO:+0200
TZNAME:CEST
DTSTART:20270328T010000
END:DAYLIGHT
BEGIN:STANDARD
TZOFFSETFROM:+0200
TZOFFSETTO:+0100
TZNAME:CET
DTSTART:20271031T010000
END:STANDARD
END:VTIMEZONE
BEGIN:VEVENT
DTSTART;TZID=Europe/Zurich:20260427T180000
DTEND;TZID=Europe/Zurich:20260427T193000
DTSTAMP:20260423T120051
CREATED:20250501T064132Z
LAST-MODIFIED:20260322T084808Z
UID:2169-1777312800-1777318200@zugerstadtfuehrungen.ch
SUMMARY:Thematische Führung - Vom Karlshof zum Salesianum und wieder zum Karlshof - mit Anmeldung
DESCRIPTION:450 Jahre Zuger Geschichte und Geschichten rund um den Karlshof. Von Rittern\, Münzmeistern und Ordensschwestern\, dem Schweizerpsalm\, Helvetia und einem Heiligen. \nErzählt von Patrick Mühlefluh\, Archivar \nMit herzlichem Dank an die Gastfreundschaft der Familie Nikolajsen \n\nFührung am 27.4.2026\nFührung am 7.9.2026\n\nPlatzzahl begrenzt auf 15 Personen\, darum ist eine Anmeldung erforderlich. \nAnmeldung an:  info@zugerstadtfuehrungen.ch \nDie Führung findet bei jedem Wetter statt. \nTeilnehmer/Teilnehmerinnen unter 18 Jahren gratis. \n  \nDie Bildlegende zur Postkarte: Phototypie A. Benoit\, 8\, rue de Barbette\, Paris\, ca.1905\, Ausschnitt (Postkarte im Besitz der Karlshof AG)
URL:https://zugerstadtfuehrungen.ch/event/thematische-fuehrung-vom-karlshof-zum-salesianum-und-wieder-zum-karlshof/
LOCATION:Bushaltestelle Salesianum\, Artherstrasse\, Zug\, 6300\, Switzerland
ATTACH;FMTTYPE=image/jpeg:https://zugerstadtfuehrungen.ch/wp-content/uploads/2026/03/Salesianum--scaled.jpg
END:VEVENT
END:VCALENDAR