BEGIN:VCALENDAR
VERSION:2.0
PRODID:-//Zuger Stadtführungen - ECPv6.15.20//NONSGML v1.0//EN
CALSCALE:GREGORIAN
METHOD:PUBLISH
X-WR-CALNAME:Zuger Stadtführungen
X-ORIGINAL-URL:https://zugerstadtfuehrungen.ch
X-WR-CALDESC:Veranstaltungen für Zuger Stadtführungen
REFRESH-INTERVAL;VALUE=DURATION:PT1H
X-Robots-Tag:noindex
X-PUBLISHED-TTL:PT1H
BEGIN:VTIMEZONE
TZID:Europe/Zurich
BEGIN:DAYLIGHT
TZOFFSETFROM:+0100
TZOFFSETTO:+0200
TZNAME:CEST
DTSTART:20250330T010000
END:DAYLIGHT
BEGIN:STANDARD
TZOFFSETFROM:+0200
TZOFFSETTO:+0100
TZNAME:CET
DTSTART:20251026T010000
END:STANDARD
BEGIN:DAYLIGHT
TZOFFSETFROM:+0100
TZOFFSETTO:+0200
TZNAME:CEST
DTSTART:20260329T010000
END:DAYLIGHT
BEGIN:STANDARD
TZOFFSETFROM:+0200
TZOFFSETTO:+0100
TZNAME:CET
DTSTART:20261025T010000
END:STANDARD
BEGIN:DAYLIGHT
TZOFFSETFROM:+0100
TZOFFSETTO:+0200
TZNAME:CEST
DTSTART:20270328T010000
END:DAYLIGHT
BEGIN:STANDARD
TZOFFSETFROM:+0200
TZOFFSETTO:+0100
TZNAME:CET
DTSTART:20271031T010000
END:STANDARD
END:VTIMEZONE
BEGIN:VEVENT
DTSTART;TZID=Europe/Zurich:20260606T095000
DTEND;TZID=Europe/Zurich:20260606T113000
DTSTAMP:20260423T132528
CREATED:20240305T105022Z
LAST-MODIFIED:20260204T092147Z
UID:1781-1780739400-1780745400@zugerstadtfuehrungen.ch
SUMMARY:Öffentliche Stadtführung - Schwerpunktthema "Feuerwehrturm "Zytturm und Brände"
DESCRIPTION:Der Zytturm ist nicht nur das Wahrzeichen der Stadt\, sondern war im Mittelalter auch der wichtigste Turm. Tag und Nacht wachte ein Feuerwächter im Föhnwächterstübli oben im Turm\, um rechtzeitig Feuer zu erkennen. An der Führung erfahren Sie mehr über die Geschichte des Turms\, über Brände und Katastrophen\, sowie über das einfache Leben der Einwohner der kleinen Stadt und heute noch gelebte Bräuche. \nDie Führung findet bei jedem Wetter statt. \nTeilnehmer/Teilnehmerinnen unter 18 Jahren gratis. \nAnmeldung nicht erforderlich.
URL:https://zugerstadtfuehrungen.ch/event/oeffentliche-stadtfuehrung-schwerpunktthema-feuerwehrturm-zytturm-und-braende/
LOCATION:beim Zytturm\, Kolinplatz\, Zug\, Schweiz
ATTACH;FMTTYPE=image/jpeg:https://zugerstadtfuehrungen.ch/wp-content/uploads/2022/01/Zytturm.jpg
END:VEVENT
BEGIN:VEVENT
DTSTART;TZID=Europe/Zurich:20260606T095000
DTEND;TZID=Europe/Zurich:20260606T113000
DTSTAMP:20260423T132528
CREATED:20240917T095552Z
LAST-MODIFIED:20260204T120505Z
UID:2010-1780739400-1780745400@zugerstadtfuehrungen.ch
SUMMARY:Öffentliche Führung - Chriesi-Rundgang in Zug
DESCRIPTION:Auf dieser Tour wird nicht nur von Zug als Ort der blühenden Kirschbäume\, des aromatischen Kirschwassers und der berühmten Kirschtorte erzählt\, sondern auch über eine jahrhundertealte lebendige Kultur\, einzigartige Bräuche und einen nachhaltigen Rohstoff\, der sich zum beliebten Wahrzeichen entwickelt hat. \nDie Führung findet bei jedem Wetter statt. \nTeilnehmer/Teilnehmerinnen unter 18 Jahren gratis. \nAnmeldung nicht erforderlich.
URL:https://zugerstadtfuehrungen.ch/event/oeffentliche-fuehrung-chriesi-rundgang-in-zug/
LOCATION:Bahnhofhalle Zug\, Zug\, Switzerland
ATTACH;FMTTYPE=image/jpeg:https://zugerstadtfuehrungen.ch/wp-content/uploads/2024/09/Chriesi.jpg
END:VEVENT
END:VCALENDAR