BEGIN:VCALENDAR
VERSION:2.0
PRODID:-//Zuger Stadtführungen - ECPv6.15.20//NONSGML v1.0//EN
CALSCALE:GREGORIAN
METHOD:PUBLISH
X-WR-CALNAME:Zuger Stadtführungen
X-ORIGINAL-URL:https://zugerstadtfuehrungen.ch
X-WR-CALDESC:Veranstaltungen für Zuger Stadtführungen
REFRESH-INTERVAL;VALUE=DURATION:PT1H
X-Robots-Tag:noindex
X-PUBLISHED-TTL:PT1H
BEGIN:VTIMEZONE
TZID:Europe/Zurich
BEGIN:DAYLIGHT
TZOFFSETFROM:+0100
TZOFFSETTO:+0200
TZNAME:CEST
DTSTART:20250330T010000
END:DAYLIGHT
BEGIN:STANDARD
TZOFFSETFROM:+0200
TZOFFSETTO:+0100
TZNAME:CET
DTSTART:20251026T010000
END:STANDARD
BEGIN:DAYLIGHT
TZOFFSETFROM:+0100
TZOFFSETTO:+0200
TZNAME:CEST
DTSTART:20260329T010000
END:DAYLIGHT
BEGIN:STANDARD
TZOFFSETFROM:+0200
TZOFFSETTO:+0100
TZNAME:CET
DTSTART:20261025T010000
END:STANDARD
BEGIN:DAYLIGHT
TZOFFSETFROM:+0100
TZOFFSETTO:+0200
TZNAME:CEST
DTSTART:20270328T010000
END:DAYLIGHT
BEGIN:STANDARD
TZOFFSETFROM:+0200
TZOFFSETTO:+0100
TZNAME:CET
DTSTART:20271031T010000
END:STANDARD
END:VTIMEZONE
BEGIN:VEVENT
DTSTART;TZID=Europe/Zurich:20260615T190000
DTEND;TZID=Europe/Zurich:20260615T200000
DTSTAMP:20260423T132722
CREATED:20260322T082125Z
LAST-MODIFIED:20260322T083102Z
UID:2369-1781550000-1781553600@zugerstadtfuehrungen.ch
SUMMARY:Thematische Führung - Metzgereimuseum Zug - mit Anmeldung
DESCRIPTION:Das Haus Aklin – seit 1787 Stammhaus der Familie – beherbergt schweizweit ein einzigartiges Metzgerei-Museum. Eine eindrucksvolle Sammlung von Gegenständen\, von 1750 bis 1930 gibt ein Einblick in das Gewerbe\, bereichert durch die Firmen- und Familiengeschichte. \nReferent: Marco Aklin \n\nFührung: Mo\, 15. Juni 2026\nFührung: Mo\, 16. November 2026\n\nZeit\, 19.00 Uhr \nTreffpunkt: Haus Aklin am Kolinplatz 10 \nTeilnehmerzahl beschränkt (12) – Anmeldung: info@zugerstadtfuehrungen.ch \nbis 8. Juni resp. 9. September 26
URL:https://zugerstadtfuehrungen.ch/event/thematische-fuehrung-metzgereimuseum/
LOCATION:vor dem Restaurant Aklin\, Kolinplatz\, Zug\, Switzerland
ATTACH;FMTTYPE=image/jpeg:https://zugerstadtfuehrungen.ch/wp-content/uploads/2026/03/Metzgerei-Museum-Foto-Dorte-scaled.jpg
END:VEVENT
END:VCALENDAR