BEGIN:VCALENDAR
VERSION:2.0
PRODID:-//Zuger Stadtführungen - ECPv6.15.20//NONSGML v1.0//EN
CALSCALE:GREGORIAN
METHOD:PUBLISH
X-ORIGINAL-URL:https://zugerstadtfuehrungen.ch
X-WR-CALDESC:Veranstaltungen für Zuger Stadtführungen
REFRESH-INTERVAL;VALUE=DURATION:PT1H
X-Robots-Tag:noindex
X-PUBLISHED-TTL:PT1H
BEGIN:VTIMEZONE
TZID:Europe/Zurich
BEGIN:DAYLIGHT
TZOFFSETFROM:+0100
TZOFFSETTO:+0200
TZNAME:CEST
DTSTART:20250330T010000
END:DAYLIGHT
BEGIN:STANDARD
TZOFFSETFROM:+0200
TZOFFSETTO:+0100
TZNAME:CET
DTSTART:20251026T010000
END:STANDARD
BEGIN:DAYLIGHT
TZOFFSETFROM:+0100
TZOFFSETTO:+0200
TZNAME:CEST
DTSTART:20260329T010000
END:DAYLIGHT
BEGIN:STANDARD
TZOFFSETFROM:+0200
TZOFFSETTO:+0100
TZNAME:CET
DTSTART:20261025T010000
END:STANDARD
BEGIN:DAYLIGHT
TZOFFSETFROM:+0100
TZOFFSETTO:+0200
TZNAME:CEST
DTSTART:20270328T010000
END:DAYLIGHT
BEGIN:STANDARD
TZOFFSETFROM:+0200
TZOFFSETTO:+0100
TZNAME:CET
DTSTART:20271031T010000
END:STANDARD
END:VTIMEZONE
BEGIN:VEVENT
DTSTART;TZID=Europe/Zurich:20260704T095000
DTEND;TZID=Europe/Zurich:20260704T113000
DTSTAMP:20260423T132808
CREATED:20240305T103547Z
LAST-MODIFIED:20260204T102931Z
UID:1777-1783158600-1783164600@zugerstadtfuehrungen.ch
SUMMARY:A Tour of Zug's Old Town
DESCRIPTION:The Zug tour guides would love to show you round their beautiful town and tell you all about the numerous old buildings and monuments in it. \nThe picturesque Old Town presents an idyllic picture with its narrow streets\, colourful facades and gabled windows\, but the history of this little lake-side town was more turbulent than you might imagine. \nTake a guided tour through the Old Town and learn something of its history\, its highlights and its catastrophes. Explore the distinctive Clock Tower\, visit the Town Hall with its Gothic Room\, marvel at the late-gothic St. Oswald’s Church and much more. There is a lot to learn and discover on this tour: for example\, why was life in the old town anything but attractive in medieval times. We look forward to welcoming you. \nThe tours take place in all weathers. \nFree of charge for the under 18. \nNo registration necessary.
URL:https://zugerstadtfuehrungen.ch/event/a-tour-of-zugs-old-town-7/
LOCATION:Zug Clock Tower / Zytturm\, Kolinplatz\, Zug\, Schweiz
ATTACH;FMTTYPE=image/jpeg:https://zugerstadtfuehrungen.ch/wp-content/uploads/2022/01/Untere-Altstadt.jpg
END:VEVENT
BEGIN:VEVENT
DTSTART;TZID=Europe/Zurich:20260704T095000
DTEND;TZID=Europe/Zurich:20260704T113000
DTSTAMP:20260423T132808
CREATED:20240305T110423Z
LAST-MODIFIED:20260204T092451Z
UID:1788-1783158600-1783164600@zugerstadtfuehrungen.ch
SUMMARY:Öffentliche Stadtführung - Schwerpunktthema "Feuerwehrturm Zytturm und Brände"
DESCRIPTION:Der Zytturm ist nicht nur das Wahrzeichen der Stadt\, sondern war im Mittelalter auch der wichtigste Turm. Tag und Nacht wachte ein Feuerwächter im Föhnwächterstübli oben im Turm\, um rechtzeitig Feuer zu erkennen. An der Führung erfahren Sie mehr über die Geschichte des Turms\, über Brände und Katastrophen\, sowie über das einfache Leben der Einwohner der kleinen Stadt und heute noch gelebte Bräuche. \nDie Führung findet bei jedem Wetter statt. \nTeilnehmer/Teilnehmerinnen unter 18 Jahren gratis. \nAnmeldung nicht erforderlich.
URL:https://zugerstadtfuehrungen.ch/event/oeffentliche-stadtfuehrung-schwerpunktthema-feuerwehrturm-zytturm-und-braende-2/
LOCATION:beim Zytturm\, Kolinplatz\, Zug\, Schweiz
ATTACH;FMTTYPE=image/jpeg:https://zugerstadtfuehrungen.ch/wp-content/uploads/2022/01/Zytturm.jpg
END:VEVENT
END:VCALENDAR