BEGIN:VCALENDAR
VERSION:2.0
PRODID:-//Zuger Stadtführungen - ECPv6.15.20//NONSGML v1.0//EN
CALSCALE:GREGORIAN
METHOD:PUBLISH
X-WR-CALNAME:Zuger Stadtführungen
X-ORIGINAL-URL:https://zugerstadtfuehrungen.ch
X-WR-CALDESC:Veranstaltungen für Zuger Stadtführungen
REFRESH-INTERVAL;VALUE=DURATION:PT1H
X-Robots-Tag:noindex
X-PUBLISHED-TTL:PT1H
BEGIN:VTIMEZONE
TZID:UTC
BEGIN:STANDARD
TZOFFSETFROM:+0000
TZOFFSETTO:+0000
TZNAME:UTC
DTSTART:20250101T000000
END:STANDARD
END:VTIMEZONE
BEGIN:VTIMEZONE
TZID:Europe/Zurich
BEGIN:DAYLIGHT
TZOFFSETFROM:+0100
TZOFFSETTO:+0200
TZNAME:CEST
DTSTART:20250330T010000
END:DAYLIGHT
BEGIN:STANDARD
TZOFFSETFROM:+0200
TZOFFSETTO:+0100
TZNAME:CET
DTSTART:20251026T010000
END:STANDARD
BEGIN:DAYLIGHT
TZOFFSETFROM:+0100
TZOFFSETTO:+0200
TZNAME:CEST
DTSTART:20260329T010000
END:DAYLIGHT
BEGIN:STANDARD
TZOFFSETFROM:+0200
TZOFFSETTO:+0100
TZNAME:CET
DTSTART:20261025T010000
END:STANDARD
BEGIN:DAYLIGHT
TZOFFSETFROM:+0100
TZOFFSETTO:+0200
TZNAME:CEST
DTSTART:20270328T010000
END:DAYLIGHT
BEGIN:STANDARD
TZOFFSETFROM:+0200
TZOFFSETTO:+0100
TZNAME:CET
DTSTART:20271031T010000
END:STANDARD
END:VTIMEZONE
BEGIN:VEVENT
DTSTART;TZID=UTC:20260926T095000
DTEND;TZID=UTC:20260926T113000
DTSTAMP:20260423T182021
CREATED:20220117T074456Z
LAST-MODIFIED:20260204T111006Z
UID:258-1790416200-1790422200@zugerstadtfuehrungen.ch
SUMMARY:Öffentliche Stadtführung
DESCRIPTION:Die malerische Zuger Altstadt gibt mit ihren Erkern\, bunten Fassaden und kleinen Gassen ein idyllisches Bild ab. Doch die Geschichte der kleinen Stadt am See war bewegter\, als ihr beschaulicher Anblick es heute vermuten lässt! \nBei der Führung durch die Altstadt erfahren Sie das Wichtigste über die Geschichte der Stadt Zug\, über ihre Höhepunkte und über ihre Katastrophen. Viel Überraschendes wartet bei diesem Rundgang darauf\, entdeckt zu werden: Zum Beispiel\, wieso das Leben in der Altstadt früher alles andere als attraktiv war. \nDie Führung findet bei jedem Wetter statt. \nTeilnehmer/Teilnehmerinnen unter 18 Jahren gratis. \nAnmeldung nicht erforderlich.
URL:https://zugerstadtfuehrungen.ch/event/oeffentliche-stadtfuehrung-schwerpunkt-alte-verkehrswege/
LOCATION:beim Zytturm\, Kolinplatz\, Zug\, Schweiz
ATTACH;FMTTYPE=image/jpeg:https://zugerstadtfuehrungen.ch/wp-content/uploads/2022/01/Altstadt_seite_1-1.jpg
END:VEVENT
BEGIN:VEVENT
DTSTART;TZID=Europe/Zurich:20260926T095000
DTEND;TZID=Europe/Zurich:20260926T113000
DTSTAMP:20260423T182021
CREATED:20260204T115634Z
LAST-MODIFIED:20260204T120822Z
UID:2321-1790416200-1790422200@zugerstadtfuehrungen.ch
SUMMARY:Visite de la veille ville de Zug
DESCRIPTION:Avec ses encorbellements\, ses façades colorées et ses petites ruelles\, la vieille ville pittoresque de Zoug offre une image idyllique. Mais l’histoire de cette petite ville au bord du lac a été plus mouvementée que ne le laisse supposer son aspect tranquille aujourd’hui ! \nAu cours de la visite guidée de la vieille ville\, vous découvrirez les moments forts et les catastrophes qui ont marqué l’histoire de la ville de Zoug. Cette visite vous réserve de nombreuses surprises\, comme par exemple pourquoi la vie dans la vieille ville était autrefois tout sauf attrayante. \nLa visite guidée a lieu par tous les temps. \nGratuit pour les participants de moins de 18 ans.
URL:https://zugerstadtfuehrungen.ch/event/visite-de-la-veille-ville-de-zug-3/
LOCATION:Zug Clock Tower / Zytturm\, Kolinplatz\, Zug\, Schweiz
ATTACH;FMTTYPE=image/jpeg:https://zugerstadtfuehrungen.ch/wp-content/uploads/2022/01/Untere-Altstadt.jpg
END:VEVENT
END:VCALENDAR