BEGIN:VCALENDAR
VERSION:2.0
PRODID:-//Zuger Stadtführungen - ECPv6.15.20//NONSGML v1.0//EN
CALSCALE:GREGORIAN
METHOD:PUBLISH
X-WR-CALNAME:Zuger Stadtführungen
X-ORIGINAL-URL:https://zugerstadtfuehrungen.ch
X-WR-CALDESC:Veranstaltungen für Zuger Stadtführungen
REFRESH-INTERVAL;VALUE=DURATION:PT1H
X-Robots-Tag:noindex
X-PUBLISHED-TTL:PT1H
BEGIN:VTIMEZONE
TZID:UTC
BEGIN:STANDARD
TZOFFSETFROM:+0000
TZOFFSETTO:+0000
TZNAME:UTC
DTSTART:20250101T000000
END:STANDARD
END:VTIMEZONE
BEGIN:VTIMEZONE
TZID:Europe/Zurich
BEGIN:DAYLIGHT
TZOFFSETFROM:+0100
TZOFFSETTO:+0200
TZNAME:CEST
DTSTART:20250330T010000
END:DAYLIGHT
BEGIN:STANDARD
TZOFFSETFROM:+0200
TZOFFSETTO:+0100
TZNAME:CET
DTSTART:20251026T010000
END:STANDARD
BEGIN:DAYLIGHT
TZOFFSETFROM:+0100
TZOFFSETTO:+0200
TZNAME:CEST
DTSTART:20260329T010000
END:DAYLIGHT
BEGIN:STANDARD
TZOFFSETFROM:+0200
TZOFFSETTO:+0100
TZNAME:CET
DTSTART:20261025T010000
END:STANDARD
BEGIN:DAYLIGHT
TZOFFSETFROM:+0100
TZOFFSETTO:+0200
TZNAME:CEST
DTSTART:20270328T010000
END:DAYLIGHT
BEGIN:STANDARD
TZOFFSETFROM:+0200
TZOFFSETTO:+0100
TZNAME:CET
DTSTART:20271031T010000
END:STANDARD
END:VTIMEZONE
BEGIN:VEVENT
DTSTART;TZID=UTC:20260307T095000
DTEND;TZID=UTC:20260307T113000
DTSTAMP:20260423T120910
CREATED:20220117T074114Z
LAST-MODIFIED:20260204T083516Z
UID:252-1772877000-1772883000@zugerstadtfuehrungen.ch
SUMMARY:Öffentliche Stadtführung
DESCRIPTION:Die malerische Zuger Altstadt gibt mit ihren Erkern\, bunten Fassaden und kleinen Gassen ein idyllisches Bild ab. Doch die Geschichte der kleinen Stadt am See war bewegter\, als ihr beschaulicher Anblick es heute vermuten lässt! \nBei der Führung durch die Altstadt erfahren Sie das Wichtigste über die Geschichte der Stadt Zug\, über ihre Höhepunkte und über ihre Katastrophen. Viel Überraschendes wartet bei diesem Rundgang darauf\, entdeckt zu werden: Zum Beispiel\, wieso das Leben in der Altstadt früher alles andere als attraktiv war. \nDie Führung findet bei jedem Wetter statt. \nTeilnehmer/Teilnehmerinnen unter 18 Jahren gratis. \nAnmeldung nicht erforderlich.
URL:https://zugerstadtfuehrungen.ch/event/oeffentliche-stadtfuehrung-2/
LOCATION:beim Zytturm\, Kolinplatz\, Zug\, Schweiz
ATTACH;FMTTYPE=image/jpeg:https://zugerstadtfuehrungen.ch/wp-content/uploads/2022/01/Altstadt_seite_1-1.jpg
END:VEVENT
BEGIN:VEVENT
DTSTART;TZID=UTC:20260307T095000
DTEND;TZID=UTC:20260307T113000
DTSTAMP:20260423T120910
CREATED:20220117T100759Z
LAST-MODIFIED:20260204T102616Z
UID:372-1772877000-1772883000@zugerstadtfuehrungen.ch
SUMMARY:A Tour of Zug's Old Town
DESCRIPTION:The Zug tour guides would love to show you round their beautiful town and tell you all about the numerous old buildings and monuments in it. \nThe picturesque Old Town presents an idyllic picture with its narrow streets\, colourful facades and gabled windows\, but the history of this little lake-side town was more turbulent than you might imagine. \nTake a guided tour through the Old Town and learn something of its history\, its highlights and its catastrophes. Explore the distinctive Clock Tower\, visit the Town Hall with its Gothic Room\, marvel at the late-gothic St. Oswald’s Church and much more. There is a lot to learn and discover on this tour: for example\, why was life in the old town anything but attractive in medieval times. We look forward to welcoming you. \nThe tours take place in all weathers. \nFree of charge for the under 18. \nNo registration necessary.
URL:https://zugerstadtfuehrungen.ch/event/a-tour-of-zugs-old-town-5/
LOCATION:Zug Clock Tower / Zytturm\, Kolinplatz\, Zug\, Schweiz
ATTACH;FMTTYPE=image/jpeg:https://zugerstadtfuehrungen.ch/wp-content/uploads/2022/01/Untere-Altstadt.jpg
END:VEVENT
BEGIN:VEVENT
DTSTART;TZID=UTC:20260314T095000
DTEND;TZID=UTC:20260314T113000
DTSTAMP:20260423T120910
CREATED:20220116T212742Z
LAST-MODIFIED:20260204T083640Z
UID:209-1773481800-1773487800@zugerstadtfuehrungen.ch
SUMMARY:Öffentliche Stadtführung
DESCRIPTION:Die malerische Zuger Altstadt gibt mit ihren Erkern\, bunten Fassaden und kleinen Gassen ein idyllisches Bild ab. Doch die Geschichte der kleinen Stadt am See war bewegter\, als ihr beschaulicher Anblick es heute vermuten lässt! \nBei der Führung durch die Altstadt erfahren Sie das Wichtigste über die Geschichte der Stadt Zug\, über ihre Höhepunkte und über ihre Katastrophen. Viel Überraschendes wartet bei diesem Rundgang darauf\, entdeckt zu werden: Zum Beispiel\, wieso das Leben in der Altstadt früher alles andere als attraktiv war. \nDie Führung findet bei jedem Wetter statt. \nTeilnehmer/Teilnehmerinnen unter 18 Jahren gratis \nAnmeldung nicht erforderlich.
URL:https://zugerstadtfuehrungen.ch/event/zuger-stadtfuehrungen-veranstaltungen/
LOCATION:beim Zytturm\, Kolinplatz\, Zug\, Schweiz
ATTACH;FMTTYPE=image/jpeg:https://zugerstadtfuehrungen.ch/wp-content/uploads/2022/01/Altstadt_seite_1-1.jpg
END:VEVENT
BEGIN:VEVENT
DTSTART;TZID=UTC:20260321T095000
DTEND;TZID=UTC:20260321T113000
DTSTAMP:20260423T120910
CREATED:20220117T094633Z
LAST-MODIFIED:20260204T090906Z
UID:343-1774086600-1774092600@zugerstadtfuehrungen.ch
SUMMARY:Öffentliche Stadtführung - Schwerpunkt "Stadtbefestigung"
DESCRIPTION:Welche Funktion hatte eine Stadtmauer? Die Vorteile waren vor allem wirtschaftlicher Art: Kontrolle der Verkehrswege und über den Markt und die Erhebung von Zöllen und Abgaben. Die Mauer trennte die Stadt vom Umland ab und hatte so auch eine hoheitliche Funktion. Dazu kamen polizeiliche Aufgaben: Sie bot Sicherheit (die Tore wurden in der Nacht geschlossen) und hielt unerwünschte Personen von der Stadt fern (Diebe und Vagabunden). Zudem war immer wieder mit ansteckenden Krankheiten und Seuchenzügen zu rechnen (z. B. mit der Pest). In Kriegszeiten aber war die Verteidigungsfunktion die wichtigste Aufgabe. \nDie Führung findet bei jedem Wetter statt. \nTeilnehmer/Teilnehmerinnen unter 18 Jahren gratis. \nAnmeldung nicht erforderlich.
URL:https://zugerstadtfuehrungen.ch/event/oeffentliche-stadtfuehrung-9/
LOCATION:beim Zytturm\, Kolinplatz\, Zug\, Schweiz
ATTACH;FMTTYPE=image/jpeg:https://zugerstadtfuehrungen.ch/wp-content/uploads/2022/01/Stadtbefestigung.jpg
END:VEVENT
BEGIN:VEVENT
DTSTART;TZID=Europe/Zurich:20260323T180000
DTEND;TZID=Europe/Zurich:20260323T200000
DTSTAMP:20260423T120910
CREATED:20260322T083956Z
LAST-MODIFIED:20260322T083956Z
UID:2388-1774288800-1774296000@zugerstadtfuehrungen.ch
SUMMARY:Thematische Führung - Vernissage der neuen Broschüren
DESCRIPTION:Endlich sind sie da! Die neue Broschürenreihe «Zug zu Fuss» lädt dazu ein\, Zug auf vier eigenständigen Spaziergängen neu zu entdecken – durch die Altstadt\, am Hang\, dem See entlang und rund um den Bahnhof. Das Faltblatt erzählt Geschichten zu einigen markanten Gebäuden\, Plätzen und Orten. Diese sind mit Hilfe einer Übersichtskarte leicht zu finden. \nAnlässlich der Vernissage präsentiert Stephanie Müller\, Vorstandsmitglied des Vereins und Projektleiterin\, das Konzept hinter den Broschüren. \nReferentin: Stephanie Müller \nIm Anschluss an die Führung laden wir zu einem Apéro in der Bauhütte ein. Teilnehmerzahl beschränkt\, bitte melden Sie sich unter info@zugerstadtfuehrungen.ch an \n 
URL:https://zugerstadtfuehrungen.ch/event/thematische-fuehrung-vernissage-der-neuen-broschueren/
LOCATION:vor der Bibliothek Oswaldgasse\, Zug\, Schweiz
ATTACH;FMTTYPE=image/jpeg:https://zugerstadtfuehrungen.ch/wp-content/uploads/2026/03/SFB-24_Stadtfuehrungen-Broschueren_Aeussere-Stadmauer-und-Tuerme-1.jpeg
END:VEVENT
BEGIN:VEVENT
DTSTART;TZID=UTC:20260328T095000
DTEND;TZID=UTC:20260328T113000
DTSTAMP:20260423T120910
CREATED:20220117T074316Z
LAST-MODIFIED:20260204T084118Z
UID:255-1774691400-1774697400@zugerstadtfuehrungen.ch
SUMMARY:Öffentliche Stadtführung
DESCRIPTION:Die malerische Zuger Altstadt gibt mit ihren Erkern\, bunten Fassaden und kleinen Gassen ein idyllisches Bild ab. Doch die Geschichte der kleinen Stadt am See war bewegter\, als ihr beschaulicher Anblick es heute vermuten lässt! \nBei der Führung durch die Altstadt erfahren Sie das Wichtigste über die Geschichte der Stadt Zug\, über ihre Höhepunkte und über ihre Katastrophen. Viel Überraschendes wartet bei diesem Rundgang darauf\, entdeckt zu werden: Zum Beispiel\, wieso das Leben in der Altstadt früher alles andere als attraktiv war. \nDie Führung findet bei jedem Wetter statt. \nTeilnehmer/Teilnehmerinnen unter 18 Jahren gratis. \nAnmeldung nicht erforderlich.
URL:https://zugerstadtfuehrungen.ch/event/oeffentliche-stadtfuehrung-3/
LOCATION:beim Zytturm\, Kolinplatz\, Zug\, Schweiz
ATTACH;FMTTYPE=image/jpeg:https://zugerstadtfuehrungen.ch/wp-content/uploads/2022/01/Altstadt_seite_1-1.jpg
END:VEVENT
END:VCALENDAR