BEGIN:VCALENDAR
VERSION:2.0
PRODID:-//Zuger Stadtführungen - ECPv6.15.20//NONSGML v1.0//EN
CALSCALE:GREGORIAN
METHOD:PUBLISH
X-WR-CALNAME:Zuger Stadtführungen
X-ORIGINAL-URL:https://zugerstadtfuehrungen.ch
X-WR-CALDESC:Veranstaltungen für Zuger Stadtführungen
REFRESH-INTERVAL;VALUE=DURATION:PT1H
X-Robots-Tag:noindex
X-PUBLISHED-TTL:PT1H
BEGIN:VTIMEZONE
TZID:Europe/Zurich
BEGIN:DAYLIGHT
TZOFFSETFROM:+0100
TZOFFSETTO:+0200
TZNAME:CEST
DTSTART:20250330T010000
END:DAYLIGHT
BEGIN:STANDARD
TZOFFSETFROM:+0200
TZOFFSETTO:+0100
TZNAME:CET
DTSTART:20251026T010000
END:STANDARD
BEGIN:DAYLIGHT
TZOFFSETFROM:+0100
TZOFFSETTO:+0200
TZNAME:CEST
DTSTART:20260329T010000
END:DAYLIGHT
BEGIN:STANDARD
TZOFFSETFROM:+0200
TZOFFSETTO:+0100
TZNAME:CET
DTSTART:20261025T010000
END:STANDARD
BEGIN:DAYLIGHT
TZOFFSETFROM:+0100
TZOFFSETTO:+0200
TZNAME:CEST
DTSTART:20270328T010000
END:DAYLIGHT
BEGIN:STANDARD
TZOFFSETFROM:+0200
TZOFFSETTO:+0100
TZNAME:CET
DTSTART:20271031T010000
END:STANDARD
END:VTIMEZONE
BEGIN:VTIMEZONE
TZID:UTC
BEGIN:STANDARD
TZOFFSETFROM:+0000
TZOFFSETTO:+0000
TZNAME:UTC
DTSTART:20250101T000000
END:STANDARD
END:VTIMEZONE
BEGIN:VEVENT
DTSTART;TZID=Europe/Zurich:20260502T095000
DTEND;TZID=Europe/Zurich:20260502T113000
DTSTAMP:20260421T124003
CREATED:20240305T113509Z
LAST-MODIFIED:20260204T094618Z
UID:1795-1777715400-1777721400@zugerstadtfuehrungen.ch
SUMMARY:Öffentliche Stadtführung - Schwerpunkt "Steinmetzzeichen in Zug" St. Oswaldkirche
DESCRIPTION:Geheimnisvolle Zeichen\, nicht von hier\, eher von einem anderen Stern. Wir finden sie im Inneren wie an den Aussenwänden der St. Oswaldkirche\, am Erker des ‘Grosshuis’\, am Zytturm und an mehreren Türstürzen. \nWir haben hier Steinmetzzeichen vor uns. Eine Steinmetzlehre dauerte an die zehn Jahre. Ein alter Steinmetzmeisterspruch: \n«Ein Punkt der in den Zirkel geht\,\nDer im Quadrat und Triangel steht\,\nKennst du den Punkt\, so ist es gut\,\nKennst du ihm nit\, so ist’s umbsonst. \nWie wahr\, wohl das Los aller Lehrmeister\, auch schon in der Gotik. \nUeli Fritsche freut sich auf Sie\, um mit Ihnen auf Entdeckungstour zu gehen. Da gibt es so Einiges. Und denken Sie daran\, Steinmetzzeichen sind ansteckend! \nDie Führung findet bei jedem Wetter statt. \nTeilnehmer/Teilnehmerinnen unter 18 Jahren gratis. \nAnmeldung nicht erforderlich.
URL:https://zugerstadtfuehrungen.ch/event/oeffentliche-stadtfuehrung-schwerpunkt-steinmetzzeichen-in-zug-st-oswaldkirche/
LOCATION:beim Zytturm\, Kolinplatz\, Zug\, Schweiz
ATTACH;FMTTYPE=image/jpeg:https://zugerstadtfuehrungen.ch/wp-content/uploads/2023/03/Steinmetzzeichen-1.jpg
END:VEVENT
BEGIN:VEVENT
DTSTART;TZID=Europe/Zurich:20260509T095000
DTEND;TZID=Europe/Zurich:20260509T113000
DTSTAMP:20260421T124003
CREATED:20220904T201352Z
LAST-MODIFIED:20260204T105541Z
UID:1308-1778320200-1778326200@zugerstadtfuehrungen.ch
SUMMARY:Öffentliche Stadtführung - Schwerpunktthema "Verborgene Innenhöfe"
DESCRIPTION:Ab in die Hinterhöfe!  \nSind die Hinterhöfe unserer Altstadt etwas Anrüchiges? Darf man die Hinterhöfe der erweiterten  Altstadt zeigen? \n«Hof» tönt edel\, fast ein wenig fürstlich. Welche Gedanken kommen Ihnen beim Begriff «Hinterhof»? \nAlt Stadtrat Andreas Bossard entführt Sie in einige Hinterhöfe unserer historischen Stadt. Er wird auch «Türöffner» zu privaten Hinterhöfen sein. Wohin die Entführung geht\, erfahren Sie an dieser öffentlichen Stadtführung. \nDie Führung findet bei jedem Wetter statt. \nTeilnehmer/Teilnehmerinnen unter 18 Jahren gratis. \nAnmeldung nicht erforderlich.
URL:https://zugerstadtfuehrungen.ch/event/fuehrung-verein-zuger-stadtfuehrungen-zug-eine-arme-kleine-stadt-2/
LOCATION:beim Zytturm\, Kolinplatz\, Zug\, Schweiz
ATTACH;FMTTYPE=image/jpeg:https://zugerstadtfuehrungen.ch/wp-content/uploads/2023/03/Innenhoefe.jpg
END:VEVENT
BEGIN:VEVENT
DTSTART;TZID=Europe/Zurich:20260509T095000
DTEND;TZID=Europe/Zurich:20260509T113000
DTSTAMP:20260421T124003
CREATED:20240305T103356Z
LAST-MODIFIED:20260204T102833Z
UID:1774-1778320200-1778326200@zugerstadtfuehrungen.ch
SUMMARY:A Tour of Zug’s Old Town
DESCRIPTION:The Zug tour guides would love to show you round their beautiful town and tell you all about the numerous old buildings and monuments in it. \nThe picturesque Old Town presents an idyllic picture with its narrow streets\, colourful facades and gabled windows\, but the history of this little lake-side town was more turbulent than you might imagine. \nTake a guided tour through the Old Town and learn something of its history\, its highlights and its catastrophes. Explore the distinctive Clock Tower\, visit the Town Hall with its Gothic Room\, marvel at the late-gothic St. Oswald’s Church and much more. There is a lot to learn and discover on this tour: for example\, why was life in the old town anything but attractive in medieval times. We look forward to welcoming you. \nThe tours take place in all weathers. \nFree of charge for the under 18. \nNo registration necessary.
URL:https://zugerstadtfuehrungen.ch/event/a-tour-of-zugs-old-town-6/
LOCATION:Zug Clock Tower / Zytturm\, Kolinplatz\, Zug\, Schweiz
ATTACH;FMTTYPE=image/jpeg:https://zugerstadtfuehrungen.ch/wp-content/uploads/2022/01/Untere-Altstadt.jpg
END:VEVENT
BEGIN:VEVENT
DTSTART;TZID=Europe/Zurich:20260509T095000
DTEND;TZID=Europe/Zurich:20260509T113000
DTSTAMP:20260421T124003
CREATED:20260204T114043Z
LAST-MODIFIED:20260204T122025Z
UID:2308-1778320200-1778326200@zugerstadtfuehrungen.ch
SUMMARY:Giro della città vecchia di Zug
DESCRIPTION:Il pittoresco centro storico di Zugo\, con i suoi bovindi\, le facciate colorate e i vicoli stretti\, offre un quadro idilliaco. Ma la storia della piccola città sul lago è stata più movimentata di quanto il suo aspetto tranquillo lasci supporre oggi! \nDurante la visita guidata del centro storico scoprirete le informazioni più importanti sulla storia della città di Zugo\, i suoi momenti salienti e le sue catastrofi. Questo tour riserva molte sorprese: ad esempio\, scoprirete perché in passato la vita nel centro storico era tutt’altro che attraente. \nLa visita guidata si svolge con qualsiasi condizione meteorologica. \nPartecipanti di età inferiore ai 18 anni: gratuito. \nNon è richiesta la prenotazione.
URL:https://zugerstadtfuehrungen.ch/event/giro-della-citta-vecchia/
LOCATION:Zug Clock Tower / Zytturm\, Kolinplatz\, Zug\, Schweiz
ATTACH;FMTTYPE=image/jpeg:https://zugerstadtfuehrungen.ch/wp-content/uploads/2022/01/Untere-Altstadt.jpg
END:VEVENT
BEGIN:VEVENT
DTSTART;TZID=Europe/Zurich:20260511T180000
DTEND;TZID=Europe/Zurich:20260511T193000
DTSTAMP:20260421T124003
CREATED:20260322T083410Z
LAST-MODIFIED:20260325T084021Z
UID:2386-1778522400-1778527800@zugerstadtfuehrungen.ch
SUMMARY:Thematische Führung - Wildleben in der Stadt
DESCRIPTION:Wildtiere sind und waren schon immer fester Bestanteil unserer Städte. Sie passen sich erstaunlich gut an den urbanen Lebensraum an. Entdecken Sie\, welche Tiere in der Stadt leben\, wie sie sich verhalten und warum sie unsere Nähe suchen. \nLassen Sie sich von Anekdoten eines Wildhüters rund um Wildtiere in der Stadt in den Bann ziehen. \nReferent: Adrian Zehnder\, Wildhüter \nDie Führung findet bei jedem Wetter statt. \nTeilnehmer/Teilnehmerinnen unter 18 Jahren gratis. \nAnmeldung nicht erforderlich.
URL:https://zugerstadtfuehrungen.ch/event/thematische-fuehrung-wildleben-in-der-stadt/
LOCATION:bei der Burg Zug\, Kirchenstrasse 11\, Zug\, 6300\, Switzerland
ATTACH;FMTTYPE=image/jpeg:https://zugerstadtfuehrungen.ch/wp-content/uploads/2026/03/Fuchs-vor-Haustuer.jpg
END:VEVENT
BEGIN:VEVENT
DTSTART;TZID=UTC:20260516T095000
DTEND;TZID=UTC:20260516T113000
DTSTAMP:20260421T124003
CREATED:20220117T080701Z
LAST-MODIFIED:20260204T112602Z
UID:271-1778925000-1778931000@zugerstadtfuehrungen.ch
SUMMARY:Öffentliche Stadtführung
DESCRIPTION:Die malerische Zuger Altstadt gibt mit ihren Erkern\, bunten Fassaden und kleinen Gassen ein idyllisches Bild ab. Doch die Geschichte der kleinen Stadt am See war bewegter\, als ihr beschaulicher Anblick es heute vermuten lässt! \nBei der Führung durch die Altstadt erfahren Sie das Wichtigste über die Geschichte der Stadt Zug\, über ihre Höhepunkte und über ihre Katastrophen. Viel Überraschendes wartet bei diesem Rundgang darauf\, entdeckt zu werden: Zum Beispiel\, wieso das Leben in der Altstadt früher alles andere als attraktiv war. \nDie Führung findet bei jedem Wetter statt. \nTeilnehmer/Teilnehmerinnen unter 18 Jahren gratis. \nAnmeldung nicht erforderlich.
URL:https://zugerstadtfuehrungen.ch/event/oeffentliche-stadtfuehrung-4/
LOCATION:beim Zytturm\, Kolinplatz\, Zug\, Schweiz
ATTACH;FMTTYPE=image/jpeg:https://zugerstadtfuehrungen.ch/wp-content/uploads/2022/01/Altstadt_seite_1-1.jpg
END:VEVENT
BEGIN:VEVENT
DTSTART;TZID=Europe/Zurich:20260523T095000
DTEND;TZID=Europe/Zurich:20260523T113000
DTSTAMP:20260421T124003
CREATED:20240305T115741Z
LAST-MODIFIED:20260204T112720Z
UID:1808-1779529800-1779535800@zugerstadtfuehrungen.ch
SUMMARY:Öffentliche Stadtführung
DESCRIPTION:Die malerische Zuger Altstadt gibt mit ihren Erkern\, bunten Fassaden und kleinen Gassen ein idyllisches Bild ab. Doch die Geschichte der kleinen Stadt am See war bewegter\, als ihr beschaulicher Anblick es heute vermuten lässt! \nBei der Führung durch die Altstadt erfahren Sie das Wichtigste über die Geschichte der Stadt Zug\, über ihre Höhepunkte und über ihre Katastrophen. Viel Überraschendes wartet bei diesem Rundgang darauf\, entdeckt zu werden: Zum Beispiel\, wieso das Leben in der Altstadt früher alles andere als attraktiv war. \nDie Führung findet bei jedem Wetter statt. \nTeilnehmer/Teilnehmerinnen unter 18 Jahren gratis. \nAnmeldung nicht erforderlich.
URL:https://zugerstadtfuehrungen.ch/event/oeffentliche-stadtfuehrung-schwerpunkt-innenhoefe/
LOCATION:beim Zytturm\, Kolinplatz\, Zug\, Schweiz
ATTACH;FMTTYPE=image/jpeg:https://zugerstadtfuehrungen.ch/wp-content/uploads/2022/01/Altstadt_seite_1-1.jpg
END:VEVENT
BEGIN:VEVENT
DTSTART;TZID=UTC:20260530T095000
DTEND;TZID=UTC:20260530T113000
DTSTAMP:20260421T124003
CREATED:20220117T093037Z
LAST-MODIFIED:20260204T120748Z
UID:337-1780134600-1780140600@zugerstadtfuehrungen.ch
SUMMARY:Öffentliche Stadtführung
DESCRIPTION:Die malerische Zuger Altstadt gibt mit ihren Erkern\, bunten Fassaden und kleinen Gassen ein idyllisches Bild ab. Doch die Geschichte der kleinen Stadt am See war bewegter\, als ihr beschaulicher Anblick es heute vermuten lässt! \nBei der Führung durch die Altstadt erfahren Sie das Wichtigste über die Geschichte der Stadt Zug\, über ihre Höhepunkte und über ihre Katastrophen. Viel Überraschendes wartet bei diesem Rundgang darauf\, entdeckt zu werden: Zum Beispiel\, wieso das Leben in der Altstadt früher alles andere als attraktiv war. \nDie Führung findet bei jedem Wetter statt. \nTeilnehmer/Teilnehmerinnen unter 18 Jahren gratis. \nAnmeldung nicht erforderlich.
URL:https://zugerstadtfuehrungen.ch/event/oeffentliche-stadtfuehrung-13/
LOCATION:beim Zytturm\, Kolinplatz\, Zug\, Schweiz
ATTACH;FMTTYPE=image/jpeg:https://zugerstadtfuehrungen.ch/wp-content/uploads/2022/01/Altstadt_seite_1-1.jpg
END:VEVENT
END:VCALENDAR