BEGIN:VCALENDAR
VERSION:2.0
PRODID:-//Zuger Stadtführungen - ECPv6.15.20//NONSGML v1.0//EN
CALSCALE:GREGORIAN
METHOD:PUBLISH
X-ORIGINAL-URL:https://zugerstadtfuehrungen.ch
X-WR-CALDESC:Veranstaltungen für Zuger Stadtführungen
REFRESH-INTERVAL;VALUE=DURATION:PT1H
X-Robots-Tag:noindex
X-PUBLISHED-TTL:PT1H
BEGIN:VTIMEZONE
TZID:Europe/Zurich
BEGIN:DAYLIGHT
TZOFFSETFROM:+0100
TZOFFSETTO:+0200
TZNAME:CEST
DTSTART:20250330T010000
END:DAYLIGHT
BEGIN:STANDARD
TZOFFSETFROM:+0200
TZOFFSETTO:+0100
TZNAME:CET
DTSTART:20251026T010000
END:STANDARD
BEGIN:DAYLIGHT
TZOFFSETFROM:+0100
TZOFFSETTO:+0200
TZNAME:CEST
DTSTART:20260329T010000
END:DAYLIGHT
BEGIN:STANDARD
TZOFFSETFROM:+0200
TZOFFSETTO:+0100
TZNAME:CET
DTSTART:20261025T010000
END:STANDARD
BEGIN:DAYLIGHT
TZOFFSETFROM:+0100
TZOFFSETTO:+0200
TZNAME:CEST
DTSTART:20270328T010000
END:DAYLIGHT
BEGIN:STANDARD
TZOFFSETFROM:+0200
TZOFFSETTO:+0100
TZNAME:CET
DTSTART:20271031T010000
END:STANDARD
END:VTIMEZONE
BEGIN:VTIMEZONE
TZID:UTC
BEGIN:STANDARD
TZOFFSETFROM:+0000
TZOFFSETTO:+0000
TZNAME:UTC
DTSTART:20250101T000000
END:STANDARD
END:VTIMEZONE
BEGIN:VEVENT
DTSTART;TZID=Europe/Zurich:20260808T095000
DTEND;TZID=Europe/Zurich:20260808T113000
DTSTAMP:20260423T145214
CREATED:20230302T102748Z
LAST-MODIFIED:20260204T110338Z
UID:1436-1786182600-1786188600@zugerstadtfuehrungen.ch
SUMMARY:Öffentliche Stadtführung - Schwerpunkt "Schweizergeschichte trifft auf Zugergeschichte"
DESCRIPTION:Geschichte gibt es nicht. Sie entsteht im Spaziergang durch die Gassen der Altstadt Zug. Und wir nähern uns dabei der Schnittmenge von Zug und den alten Eidgenossen. Objekte\, Fakten\, Bilder und Erzählungen werden zu Projektionen der Zeit\, in der sie entstanden. Spannend\, zufällig\, rätselhaft\, denkanregend! \nDie Führung findet bei jedem Wetter statt. \nTeilnehmer/Teilnehmerinnen unter 18 Jahren gratis. \nAnmeldung nicht erforderlich.
URL:https://zugerstadtfuehrungen.ch/event/oeffentliche-stadtfuehrung-schwerpunkt-zug-und-die-eidgenossen/
LOCATION:beim Zytturm\, Kolinplatz\, Zug\, Schweiz
ATTACH;FMTTYPE=image/jpeg:https://zugerstadtfuehrungen.ch/wp-content/uploads/2022/01/Zuger-und-Schweizergeschichte.jpg
END:VEVENT
BEGIN:VEVENT
DTSTART;TZID=UTC:20260815T095000
DTEND;TZID=UTC:20260815T113000
DTSTAMP:20260423T145214
CREATED:20220117T091409Z
LAST-MODIFIED:20260204T110533Z
UID:316-1786787400-1786793400@zugerstadtfuehrungen.ch
SUMMARY:Öffentliche Stadtführung
DESCRIPTION:Die malerische Zuger Altstadt gibt mit ihren Erkern\, bunten Fassaden und kleinen Gassen ein idyllisches Bild ab. Doch die Geschichte der kleinen Stadt am See war bewegter\, als ihr beschaulicher Anblick es heute vermuten lässt! \nBei der Führung durch die Altstadt erfahren Sie das Wichtigste über die Geschichte der Stadt Zug\, über ihre Höhepunkte und über ihre Katastrophen. Viel Überraschendes wartet bei diesem Rundgang darauf\, entdeckt zu werden: Zum Beispiel\, wieso das Leben in der Altstadt früher alles andere als attraktiv war. \nDie Führung findet bei jedem Wetter statt. \nTeilnehmer/Teilnehmerinnen unter 18 Jahren gratis. \nAnmeldung nicht erforderlich.
URL:https://zugerstadtfuehrungen.ch/event/oeffentliche-stadtfuehrung-12/
LOCATION:beim Zytturm\, Kolinplatz\, Zug\, Schweiz
ATTACH;FMTTYPE=image/jpeg:https://zugerstadtfuehrungen.ch/wp-content/uploads/2022/01/Altstadt_seite_1-1.jpg
END:VEVENT
BEGIN:VEVENT
DTSTART;TZID=UTC:20260815T095000
DTEND;TZID=UTC:20260815T113000
DTSTAMP:20260423T145214
CREATED:20220117T100532Z
LAST-MODIFIED:20260204T103041Z
UID:368-1786787400-1786793400@zugerstadtfuehrungen.ch
SUMMARY:A Tour of Zug's Old Town
DESCRIPTION:The Zug tour guides would love to show you round their beautiful town and tell you all about the numerous old buildings and monuments in it. \nThe picturesque Old Town presents an idyllic picture with its narrow streets\, colourful facades and gabled windows\, but the history of this little lake-side town was more turbulent than you might imagine. \nTake a guided tour through the Old Town and learn something of its history\, its highlights and its catastrophes. Explore the distinctive Clock Tower\, visit the Town Hall with its Gothic Room\, marvel at the late-gothic St. Oswald’s Church and much more. There is a lot to learn and discover on this tour: for example\, why was life in the old town anything but attractive in medieval times. We look forward to welcoming you. \nThe tours take place in all weathers. \nFree of charge for the under 18. \nNo registration necessary.
URL:https://zugerstadtfuehrungen.ch/event/a-tour-of-zugs-old-town-3/
LOCATION:Zug Clock Tower / Zytturm\, Kolinplatz\, Zug\, Schweiz
ATTACH;FMTTYPE=image/jpeg:https://zugerstadtfuehrungen.ch/wp-content/uploads/2022/01/Untere-Altstadt.jpg
END:VEVENT
BEGIN:VEVENT
DTSTART;TZID=UTC:20260822T095000
DTEND;TZID=UTC:20260822T113000
DTSTAMP:20260423T145214
CREATED:20220117T080918Z
LAST-MODIFIED:20260204T110632Z
UID:274-1787392200-1787398200@zugerstadtfuehrungen.ch
SUMMARY:Öffentliche Stadtführung
DESCRIPTION:Die malerische Zuger Altstadt gibt mit ihren Erkern\, bunten Fassaden und kleinen Gassen ein idyllisches Bild ab. Doch die Geschichte der kleinen Stadt am See war bewegter\, als ihr beschaulicher Anblick es heute vermuten lässt! \nBei der Führung durch die Altstadt erfahren Sie das Wichtigste über die Geschichte der Stadt Zug\, über ihre Höhepunkte und über ihre Katastrophen. Viel Überraschendes wartet bei diesem Rundgang darauf\, entdeckt zu werden: Zum Beispiel\, wieso das Leben in der Altstadt früher alles andere als attraktiv war. \nDie Führung findet bei jedem Wetter statt. \nTeilnehmer/Teilnehmerinnen unter 18 Jahren gratis. \nAnmeldung nicht erforderlich.
URL:https://zugerstadtfuehrungen.ch/event/oeffentliche-stadtfuehrung-5/
LOCATION:beim Zytturm\, Kolinplatz\, Zug\, Schweiz
ATTACH;FMTTYPE=image/jpeg:https://zugerstadtfuehrungen.ch/wp-content/uploads/2022/01/Altstadt_seite_1-1.jpg
END:VEVENT
BEGIN:VEVENT
DTSTART;TZID=Europe/Zurich:20260822T095000
DTEND;TZID=Europe/Zurich:20260822T113000
DTSTAMP:20260423T145214
CREATED:20260204T115439Z
LAST-MODIFIED:20260204T120903Z
UID:2319-1787392200-1787398200@zugerstadtfuehrungen.ch
SUMMARY:Visite de la veille ville de Zug
DESCRIPTION:Avec ses encorbellements\, ses façades colorées et ses petites ruelles\, la vieille ville pittoresque de Zoug offre une image idyllique. Mais l’histoire de cette petite ville au bord du lac a été plus mouvementée que ne le laisse supposer son aspect tranquille aujourd’hui ! \nAu cours de la visite guidée de la vieille ville\, vous découvrirez les moments forts et les catastrophes qui ont marqué l’histoire de la ville de Zoug. Cette visite vous réserve de nombreuses surprises\, comme par exemple pourquoi la vie dans la vieille ville était autrefois tout sauf attrayante. \nLa visite guidée a lieu par tous les temps. \nGratuit pour les participants de moins de 18 ans. \nInscription non requise. \n 
URL:https://zugerstadtfuehrungen.ch/event/visite-de-la-veille-ville-de-zug-2/
LOCATION:Zug Clock Tower / Zytturm\, Kolinplatz\, Zug\, Schweiz
ATTACH;FMTTYPE=image/jpeg:https://zugerstadtfuehrungen.ch/wp-content/uploads/2022/01/Untere-Altstadt.jpg
END:VEVENT
BEGIN:VEVENT
DTSTART;TZID=Europe/Zurich:20260829T095000
DTEND;TZID=Europe/Zurich:20260829T113000
DTSTAMP:20260423T145214
CREATED:20230302T095844Z
LAST-MODIFIED:20260204T095414Z
UID:1426-1787997000-1788003000@zugerstadtfuehrungen.ch
SUMMARY:Öffentliche Stadtführung - Schwerpunkt "Steinmetzzeichen in Zug" St. Oswaldkirche
DESCRIPTION:Geheimnisvolle Zeichen\, nicht von hier\, eher von einem anderen Stern. Wir finden sie im Inneren wie an den Aussenwänden der St. Oswaldkirche\, am Erker des ‘Grosshuis’\, am Zytturm und an mehreren Türstürzen. \nWir haben hier Steinmetzzeichen vor uns. Eine Steinmetzlehre dauerte an die zehn Jahre. Ein alter Steinmetzmeisterspruch: \n«Ein Punkt der in den Zirkel geht\,\nDer im Quadrat und Triangel steht\,\nKennst du den Punkt\, so ist es gut\,\nKennst du ihm nit\, so ist’s umbsonst. \nWie wahr\, wohl das Los aller Lehrmeister\, auch schon in der Gotik. \nUeli Fritsche freut sich auf Sie\, um mit Ihnen auf Entdeckungstour zu gehen. Da gibt es so Einiges. Und denken Sie daran\, Steinmetzzeichen sind ansteckend! \nDie Führung findet bei jedem Wetter statt. \nTeilnehmer/Teilnehmerinnen unter 18 Jahren gratis. \nAnmeldung nicht erforderlich.
URL:https://zugerstadtfuehrungen.ch/event/oeffentliche-stadtfuehrung-11/
LOCATION:beim Zytturm\, Kolinplatz\, Zug\, Schweiz
ATTACH;FMTTYPE=image/jpeg:https://zugerstadtfuehrungen.ch/wp-content/uploads/2023/03/Steinmetzzeichen-1.jpg
END:VEVENT
BEGIN:VEVENT
DTSTART;TZID=Europe/Zurich:20260829T095000
DTEND;TZID=Europe/Zurich:20260829T113000
DTSTAMP:20260423T145214
CREATED:20260204T114803Z
LAST-MODIFIED:20260204T120843Z
UID:2312-1787997000-1788003000@zugerstadtfuehrungen.ch
SUMMARY:Giro della città vecchia di Zug
DESCRIPTION:Il pittoresco centro storico di Zugo\, con i suoi bovindi\, le facciate colorate e i vicoli stretti\, offre un quadro idilliaco. Ma la storia della piccola città sul lago è stata più movimentata di quanto il suo aspetto tranquillo lasci supporre oggi! \nDurante la visita guidata del centro storico scoprirete le informazioni più importanti sulla storia della città di Zugo\, i suoi momenti salienti e le sue catastrofi. Questo tour riserva molte sorprese: ad esempio\, scoprirete perché in passato la vita nel centro storico era tutt’altro che attraente. \nLa visita guidata si svolge con qualsiasi condizione meteorologica. \nPartecipanti di età inferiore ai 18 anni: gratuito. \nNon è richiesta la prenotazione.
URL:https://zugerstadtfuehrungen.ch/event/giro-della-citta-vecchia-2/
LOCATION:Zug Clock Tower / Zytturm\, Kolinplatz\, Zug\, Schweiz
ATTACH;FMTTYPE=image/jpeg:https://zugerstadtfuehrungen.ch/wp-content/uploads/2022/01/Untere-Altstadt.jpg
END:VEVENT
END:VCALENDAR